BEGIN:VCALENDAR
VERSION:2.0
PRODID:-//45th District Democrats - ECPv6.2.2//NONSGML v1.0//EN
CALSCALE:GREGORIAN
METHOD:PUBLISH
X-WR-CALNAME:45th District Democrats
X-ORIGINAL-URL:https://www.45thdemocrats.org
X-WR-CALDESC:Events for 45th District Democrats
REFRESH-INTERVAL;VALUE=DURATION:PT1H
X-Robots-Tag:noindex
X-PUBLISHED-TTL:PT1H
BEGIN:VTIMEZONE
TZID:America/Los_Angeles
BEGIN:DAYLIGHT
TZOFFSETFROM:-0800
TZOFFSETTO:-0700
TZNAME:PDT
DTSTART:20200308T100000
END:DAYLIGHT
BEGIN:STANDARD
TZOFFSETFROM:-0700
TZOFFSETTO:-0800
TZNAME:PST
DTSTART:20201101T090000
END:STANDARD
BEGIN:DAYLIGHT
TZOFFSETFROM:-0800
TZOFFSETTO:-0700
TZNAME:PDT
DTSTART:20210314T100000
END:DAYLIGHT
BEGIN:STANDARD
TZOFFSETFROM:-0700
TZOFFSETTO:-0800
TZNAME:PST
DTSTART:20211107T090000
END:STANDARD
END:VTIMEZONE
BEGIN:VEVENT
DTSTART;TZID=America/Los_Angeles:20211201T190000
DTEND;TZID=America/Los_Angeles:20211201T210000
DTSTAMP:20231106T234302
CREATED:20181215T194448Z
LAST-MODIFIED:20211124T011449Z
UID:5928-1638385200-1638392400@www.45thdemocrats.org
SUMMARY:45th District Democrats General Meeting - REGISTRATION REQUIRED!
DESCRIPTION:Click here to register\nThe first Wednesday of every month\, the 45th District Democrats meet to hear from candidates and elected officials\, make endorsements\, discuss state and local issues\, and conduct Democratic Party business. Deviations from this schedule will be announced here\, on our events calendar. \nDue to COVID-19\, General Meetings will be held virtually via Zoom.  You can  find more info about our virtual meetings here. \nJoin our email announcements list for the most up-to-date information on meeting agendas\, special guests\, volunteer opportunities\, and other events.
URL:https://www.45thdemocrats.org/event/45th-district-democrats-general-meeting-3-2019-03-06-2021-12-01/
LOCATION:Online via Zoom: Click Here to Register! (Registration opens two weeks before event)\, WA\, United States
CATEGORIES:Meetings
ATTACH;FMTTYPE=image/png:https://www.45thdemocrats.org/wp-content/uploads/2017/08/General-Meeting-Horace-Mann-credit-Lincoln-Potter.png
ORGANIZER;CN="45th District Democrats":MAILTO:communications@45thdemocrats.org
END:VEVENT
BEGIN:VEVENT
DTSTART;TZID=America/Los_Angeles:20211103T190000
DTEND;TZID=America/Los_Angeles:20211103T210000
DTSTAMP:20231106T234302
CREATED:20181215T194448Z
LAST-MODIFIED:20211027T232040Z
UID:5927-1635966000-1635973200@www.45thdemocrats.org
SUMMARY:45th District Democrats General Meeting - REGISTRATION REQUIRED!
DESCRIPTION:Click here to register\nThe first Wednesday of every month\, the 45th District Democrats meet to hear from candidates and elected officials\, make endorsements\, discuss state and local issues\, and conduct Democratic Party business. Deviations from this schedule will be announced here\, on our events calendar. \nDue to COVID-19\, General Meetings will be held virtually via Zoom.  You can  find more info about our virtual meetings here. \nJoin our email announcements list for the most up-to-date information on meeting agendas\, special guests\, volunteer opportunities\, and other events.
URL:https://www.45thdemocrats.org/event/45th-district-democrats-general-meeting-3-2019-03-06-2021-11-03/
LOCATION:Online via Zoom: Click Here to Register! (Registration opens two weeks before event)\, WA\, United States
CATEGORIES:Meetings
ATTACH;FMTTYPE=image/png:https://www.45thdemocrats.org/wp-content/uploads/2017/08/General-Meeting-Horace-Mann-credit-Lincoln-Potter.png
ORGANIZER;CN="45th District Democrats":MAILTO:communications@45thdemocrats.org
END:VEVENT
BEGIN:VEVENT
DTSTART;TZID=America/Los_Angeles:20211006T190000
DTEND;TZID=America/Los_Angeles:20211006T210000
DTSTAMP:20231106T234302
CREATED:20181215T194448Z
LAST-MODIFIED:20211006T220904Z
UID:5926-1633546800-1633554000@www.45thdemocrats.org
SUMMARY:45th District Democrats General Meeting - REGISTRATION REQUIRED!
DESCRIPTION:Click here to register\nClick here for the meeting agenda\nThe first Wednesday of every month\, the 45th District Democrats meet to hear from candidates and elected officials\, make endorsements\, discuss state and local issues\, and conduct Democratic Party business. Deviations from this schedule will be announced here\, on our events calendar. \nDue to COVID-19\, General Meetings will be held virtually via Zoom.  You can  find more info about our virtual meetings here. \n 
URL:https://www.45thdemocrats.org/event/45th-district-democrats-general-meeting-3-2019-03-06-2021-10-06/
LOCATION:Online via Zoom: Click Here to Register! (Registration opens two weeks before event)\, WA\, United States
CATEGORIES:Meetings
ATTACH;FMTTYPE=image/png:https://www.45thdemocrats.org/wp-content/uploads/2017/08/General-Meeting-Horace-Mann-credit-Lincoln-Potter.png
ORGANIZER;CN="45th District Democrats":MAILTO:communications@45thdemocrats.org
END:VEVENT
BEGIN:VEVENT
DTSTART;TZID=America/Los_Angeles:20210901T190000
DTEND;TZID=America/Los_Angeles:20210901T210000
DTSTAMP:20231106T234302
CREATED:20181215T194448Z
LAST-MODIFIED:20210817T010836Z
UID:5925-1630522800-1630530000@www.45thdemocrats.org
SUMMARY:45th District Democrats General Meeting - REGISTRATION REQUIRED!
DESCRIPTION:Click here to register\nThe first Wednesday of every month\, the 45th District Democrats meet to hear from candidates and elected officials\, make endorsements\, discuss state and local issues\, and conduct Democratic Party business. Deviations from this schedule will be announced here\, on our events calendar. \nDue to COVID-19\, General Meetings will be held virtually via Zoom.  You can  find more info about our virtual meetings here. \nJoin our email announcements list for the most up-to-date information on meeting agendas\, special guests\, volunteer opportunities\, and other events.
URL:https://www.45thdemocrats.org/event/45th-district-democrats-general-meeting-3-2019-03-06-2021-09-01/
LOCATION:Virtual Zoom Meeting\, WA\, United States
CATEGORIES:Meetings
ATTACH;FMTTYPE=image/png:https://www.45thdemocrats.org/wp-content/uploads/2017/08/General-Meeting-Horace-Mann-credit-Lincoln-Potter.png
ORGANIZER;CN="45th District Democrats":MAILTO:communications@45thdemocrats.org
END:VEVENT
BEGIN:VEVENT
DTSTART;TZID=America/Los_Angeles:20210804T190000
DTEND;TZID=America/Los_Angeles:20210804T210000
DTSTAMP:20231106T234302
CREATED:20181215T194448Z
LAST-MODIFIED:20210611T170126Z
UID:5924-1628103600-1628110800@www.45thdemocrats.org
SUMMARY:45th District Democrats General Meeting - REGISTRATION REQUIRED!
DESCRIPTION:Click here to register!\nThe first Wednesday of every month\, the 45th District Democrats meet to hear from candidates and elected officials\, make endorsements\, discuss state and local issues\, and conduct Democratic Party business. Deviations from this schedule will be announced here\, on our events calendar. \nDue to COVID-19\, General Meetings will be held virtually via Zoom.  You can  find more info about our virtual meetings here. \nJoin our email announcements list for the most up-to-date information on meeting agendas\, special guests\, volunteer opportunities\, and other events.
URL:https://www.45thdemocrats.org/event/45th-district-democrats-general-meeting-3-2019-03-06-2021-08-04/
LOCATION:Online via Zoom: Click Here to Register! (Registration opens two weeks before event)\, WA\, United States
CATEGORIES:Meetings
ATTACH;FMTTYPE=image/png:https://www.45thdemocrats.org/wp-content/uploads/2017/08/General-Meeting-Horace-Mann-credit-Lincoln-Potter.png
ORGANIZER;CN="45th District Democrats":MAILTO:communications@45thdemocrats.org
END:VEVENT
BEGIN:VEVENT
DTSTART;TZID=America/Los_Angeles:20210707T190000
DTEND;TZID=America/Los_Angeles:20210707T210000
DTSTAMP:20231106T234302
CREATED:20181215T194448Z
LAST-MODIFIED:20210705T134911Z
UID:5923-1625684400-1625691600@www.45thdemocrats.org
SUMMARY:45th District Democrats General Meeting - REGISTRATION REQUIRED!
DESCRIPTION:Click here to register!\nThe first Wednesday of every month\, the 45th District Democrats meet to hear from candidates and elected officials\, make endorsements\, discuss state and local issues\, and conduct Democratic Party business. Deviations from this schedule will be announced here\, on our events calendar. \nDue to COVID-19\, General Meetings will be held virtually via Zoom.  You can  find more info about our virtual meetings here. \nJoin our email announcements list for the most up-to-date information on meeting agendas\, special guests\, volunteer opportunities\, and other events.
URL:https://www.45thdemocrats.org/event/45th-district-democrats-general-meeting-3-2019-03-06-2021-07-07/
LOCATION:Virtual Zoom Meeting\, WA\, United States
CATEGORIES:Meetings
ATTACH;FMTTYPE=image/png:https://www.45thdemocrats.org/wp-content/uploads/2017/08/General-Meeting-Horace-Mann-credit-Lincoln-Potter.png
ORGANIZER;CN="45th District Democrats":MAILTO:communications@45thdemocrats.org
END:VEVENT
BEGIN:VEVENT
DTSTART;TZID=America/Los_Angeles:20210602T190000
DTEND;TZID=America/Los_Angeles:20210602T210000
DTSTAMP:20231106T234302
CREATED:20181215T194448Z
LAST-MODIFIED:20210523T163437Z
UID:5922-1622660400-1622667600@www.45thdemocrats.org
SUMMARY:45th District Democrats General Meeting - REGISTRATION REQUIRED!
DESCRIPTION:Click here to register!\nThe first Wednesday of every month\, the 45th District Democrats meet to hear from candidates and elected officials\, make endorsements\, discuss state and local issues\, and conduct Democratic Party business. Deviations from this schedule will be announced here\, on our events calendar. \nDue to COVID-19\, General Meetings will be held virtually via Zoom.  You can  find more info about our virtual meetings here. \nJoin our email announcements list for the most up-to-date information on meeting agendas\, special guests\, volunteer opportunities\, and other events.
URL:https://www.45thdemocrats.org/event/45th-district-democrats-general-meeting-3-2019-03-06-2021-06-02/
LOCATION:Virtual Zoom Meeting\, WA\, United States
CATEGORIES:Meetings
ATTACH;FMTTYPE=image/png:https://www.45thdemocrats.org/wp-content/uploads/2017/08/General-Meeting-Horace-Mann-credit-Lincoln-Potter.png
ORGANIZER;CN="45th District Democrats":MAILTO:communications@45thdemocrats.org
END:VEVENT
BEGIN:VEVENT
DTSTART;TZID=America/Los_Angeles:20210505T190000
DTEND;TZID=America/Los_Angeles:20210505T210000
DTSTAMP:20231106T234302
CREATED:20181215T194448Z
LAST-MODIFIED:20210409T190224Z
UID:5921-1620241200-1620248400@www.45thdemocrats.org
SUMMARY:45th District Democrats General Meeting - REGISTRATION REQUIRED - Opens 4 weeks prior to meeting
DESCRIPTION:Click here to register!\nThe first Wednesday of every month\, the 45th District Democrats meet to hear from candidates and elected officials\, make endorsements\, discuss state and local issues\, and conduct Democratic Party business. Deviations from this schedule will be announced here\, on our events calendar. \nDue to COVID-19\, General Meetings will be held virtually via Zoom.  You can  find more info about our virtual meetings here. \nJoin our email announcements list for the most up-to-date information on meeting agendas\, special guests\, volunteer opportunities\, and other events.
URL:https://www.45thdemocrats.org/event/45th-district-democrats-general-meeting-3-2019-03-06-2021-05-05/
LOCATION:Virtual Zoom Meeting\, WA\, United States
CATEGORIES:Meetings
ATTACH;FMTTYPE=image/png:https://www.45thdemocrats.org/wp-content/uploads/2017/08/General-Meeting-Horace-Mann-credit-Lincoln-Potter.png
ORGANIZER;CN="45th District Democrats":MAILTO:communications@45thdemocrats.org
END:VEVENT
BEGIN:VEVENT
DTSTART;TZID=America/Los_Angeles:20210407T190000
DTEND;TZID=America/Los_Angeles:20210407T210000
DTSTAMP:20231106T234302
CREATED:20181215T194448Z
LAST-MODIFIED:20210325T224026Z
UID:5920-1617822000-1617829200@www.45thdemocrats.org
SUMMARY:45th District Democrats General Meeting - REGISTRATION REQUIRED - Opens 2 weeks prior to meeting
DESCRIPTION:Click here to register!\nThe first Wednesday of every month\, the 45th District Democrats meet to hear from candidates and elected officials\, make endorsements\, discuss state and local issues\, and conduct Democratic Party business. Deviations from this schedule will be announced here\, on our events calendar. \nDue to COVID-19\, General Meetings will be held virtually via Zoom.  You can  find more info about our virtual meetings here. \nJoin our email announcements list for the most up-to-date information on meeting agendas\, special guests\, volunteer opportunities\, and other events.
URL:https://www.45thdemocrats.org/event/45th-district-democrats-general-meeting-3-2019-03-06-2021-04-07/
LOCATION:Virtual Zoom Meeting\, WA\, United States
CATEGORIES:Meetings
ATTACH;FMTTYPE=image/png:https://www.45thdemocrats.org/wp-content/uploads/2017/08/General-Meeting-Horace-Mann-credit-Lincoln-Potter.png
ORGANIZER;CN="45th District Democrats":MAILTO:communications@45thdemocrats.org
END:VEVENT
BEGIN:VEVENT
DTSTART;TZID=America/Los_Angeles:20210106T190000
DTEND;TZID=America/Los_Angeles:20210106T210000
DTSTAMP:20231106T234302
CREATED:20181215T194448Z
LAST-MODIFIED:20201218T075616Z
UID:5917-1609959600-1609966800@www.45thdemocrats.org
SUMMARY:45th District Democrats Reorg & General Meeting - REGISTRATION REQUIRED!
DESCRIPTION:Click here to register!\nWe will be holding our bi-annual reorganization at this meeting. You can learn more here. \nThe first Wednesday of every month\, the 45th District Democrats meet to hear from candidates and elected officials\, make endorsements\, discuss state and local issues\, and conduct Democratic Party business. Deviations from this schedule will be announced here\, on our events calendar. \nDue to COVID-19\, General Meetings will be held virtually via Zoom.  You can  find more info about our virtual meetings here. \nJoin our email announcements list for the most up-to-date information on meeting agendas\, special guests\, volunteer opportunities\, and other events.
URL:https://www.45thdemocrats.org/event/45th-district-democrats-general-meeting-3-2019-03-06-2021-01-06/
LOCATION:Online via Zoom: Click Here to Register! (Registration opens two weeks before event)\, WA\, United States
CATEGORIES:Meetings
ATTACH;FMTTYPE=image/png:https://www.45thdemocrats.org/wp-content/uploads/2017/08/General-Meeting-Horace-Mann-credit-Lincoln-Potter.png
ORGANIZER;CN="45th District Democrats":MAILTO:communications@45thdemocrats.org
END:VEVENT
BEGIN:VEVENT
DTSTART;TZID=America/Los_Angeles:20201202T190000
DTEND;TZID=America/Los_Angeles:20201202T210000
DTSTAMP:20231106T234302
CREATED:20181215T194448Z
LAST-MODIFIED:20200503T194729Z
UID:5024-1606935600-1606942800@www.45thdemocrats.org
SUMMARY:45th District Democrats General Meeting
DESCRIPTION:The first Wednesday of every month\, the 45th District Democrats meet to hear from candidates and elected officials\, make endorsements\, discuss state and local issues\, and conduct Democratic Party business. Deviations from this schedule will be announced here\, on our events calendar. \nDue to COVID-19\, General Meetings will be held virtually via Zoom.  Details for meeting registration and log in details will be emailed prior to the meetings. \nJoin our email announcements list for the most up-to-date information on meeting agendas\, special guests\, volunteer opportunities\, and other events.
URL:https://www.45thdemocrats.org/event/45th-district-democrats-general-meeting-3-2019-03-06-2020-12-02/
LOCATION:Online via Zoom: Click Here to Register! (Registration opens two weeks before event)\, WA\, United States
CATEGORIES:Meetings
ATTACH;FMTTYPE=image/png:https://www.45thdemocrats.org/wp-content/uploads/2017/08/General-Meeting-Horace-Mann-credit-Lincoln-Potter.png
ORGANIZER;CN="45th District Democrats":MAILTO:communications@45thdemocrats.org
END:VEVENT
END:VCALENDAR