BEGIN:VCALENDAR
VERSION:2.0
PRODID:-//45th District Democrats - ECPv6.2.2//NONSGML v1.0//EN
CALSCALE:GREGORIAN
METHOD:PUBLISH
X-WR-CALNAME:45th District Democrats
X-ORIGINAL-URL:https://www.45thdemocrats.org
X-WR-CALDESC:Events for 45th District Democrats
REFRESH-INTERVAL;VALUE=DURATION:PT1H
X-Robots-Tag:noindex
X-PUBLISHED-TTL:PT1H
BEGIN:VTIMEZONE
TZID:America/Los_Angeles
BEGIN:DAYLIGHT
TZOFFSETFROM:-0800
TZOFFSETTO:-0700
TZNAME:PDT
DTSTART:20220313T100000
END:DAYLIGHT
BEGIN:STANDARD
TZOFFSETFROM:-0700
TZOFFSETTO:-0800
TZNAME:PST
DTSTART:20221106T090000
END:STANDARD
BEGIN:DAYLIGHT
TZOFFSETFROM:-0800
TZOFFSETTO:-0700
TZNAME:PDT
DTSTART:20230312T100000
END:DAYLIGHT
BEGIN:STANDARD
TZOFFSETFROM:-0700
TZOFFSETTO:-0800
TZNAME:PST
DTSTART:20231105T090000
END:STANDARD
END:VTIMEZONE
BEGIN:VEVENT
DTSTART;TZID=America/Los_Angeles:20230813T110000
DTEND;TZID=America/Los_Angeles:20230813T150000
DTSTAMP:20231105T025911
CREATED:20230726T220503Z
LAST-MODIFIED:20230726T232011Z
UID:9234-1691924400-1691938800@www.45thdemocrats.org
SUMMARY:Save the Date: 45th Democrats Summer Picnic!
DESCRIPTION:Join us for a Summer Potluck Picnic \nWho: 45th Democrats\, their Families\, and Guests\nWhere: Bill Reams East Sammamish Park\, Sammamish\, WA\nWhen: Sunday\, August 13\, 11 AM to 3 PM\nWhy: Relax\, visit\, and catch up with your fellow Dems! Play games and eat sandwiches. \nWatch email from 45th Democrats for more information/sign-up form.
URL:https://www.45thdemocrats.org/event/save-the-date-45th-democrats-summer-picnic/
LOCATION:Bill Reams East Sammamish Park\, Sammamish\, WA\, 21300 NE 16th St\, Sammamish\, WA\, WA\, 98074\, United States
CATEGORIES:Parties, Picnics, and Social Events
ORGANIZER;CN="45th District Democrats":MAILTO:communications@45thdemocrats.org
END:VEVENT
BEGIN:VEVENT
DTSTART;TZID=America/Los_Angeles:20230803T190000
DTEND;TZID=America/Los_Angeles:20230803T210000
DTSTAMP:20231105T025911
CREATED:20230726T205220Z
LAST-MODIFIED:20230801T173651Z
UID:9231-1691089200-1691096400@www.45thdemocrats.org
SUMMARY:45th District Democrats General Meeting – REGISTRATION REQUIRED
DESCRIPTION:45th District Democrats General Meeting – REGISTRATION REQUIRED!\n\nAugust 3\, 2023 | 7:00 PM–9:00 PM\n\n\n\n\n\n\n\n\nClick here to register\nThe first Wednesday of every month\, the 45th District Democrats meet to hear from candidates and elected officials\, make endorsements\, discuss state and local issues\, and conduct Democratic Party business. Deviations from this schedule will be announced here\, on our events calendar. \nGeneral Meetings are held virtually via Zoom. You can find more info about our virtual meetings here.
URL:https://www.45thdemocrats.org/event/9231/
LOCATION:WA\, United States
ORGANIZER;CN="45th District Democrats":MAILTO:communications@45thdemocrats.org
END:VEVENT
BEGIN:VEVENT
DTSTART;TZID=America/Los_Angeles:20230724T180000
DTEND;TZID=America/Los_Angeles:20230724T200000
DTSTAMP:20231105T025911
CREATED:20230718T220859Z
LAST-MODIFIED:20230718T220917Z
UID:9211-1690221600-1690228800@www.45thdemocrats.org
SUMMARY:Liveable Kirkland Meetup with Kelli Curtis\, City Council Member
DESCRIPTION:
URL:https://www.45thdemocrats.org/event/liveable-kirkland-meetup-with-kelli-curtis-city-council-member/
LOCATION:WA\, United States
CATEGORIES:Campaign Event
ORGANIZER;CN="45th District Democrats":MAILTO:communications@45thdemocrats.org
END:VEVENT
BEGIN:VEVENT
DTSTART;TZID=America/Los_Angeles:20230715T103000
DTEND;TZID=America/Los_Angeles:20230715T170000
DTSTAMP:20231105T025911
CREATED:20230705T214528Z
LAST-MODIFIED:20230705T214757Z
UID:9121-1689417000-1689440400@www.45thdemocrats.org
SUMMARY:Redmond Derby Days\, July 15 at 10:30am
DESCRIPTION:Signs are being donated from our endorsed candidates\, and there will be T-shirts and more campaign swag. More info
URL:https://www.45thdemocrats.org/event/9121/
LOCATION:WA\, United States
ORGANIZER;CN="45th District Democrats":MAILTO:communications@45thdemocrats.org
END:VEVENT
BEGIN:VEVENT
DTSTART;TZID=America/Los_Angeles:20230705T190000
DTEND;TZID=America/Los_Angeles:20230705T210000
DTSTAMP:20231105T025911
CREATED:20230302T034828Z
LAST-MODIFIED:20230302T034828Z
UID:8501-1688583600-1688590800@www.45thdemocrats.org
SUMMARY:45th District Democrats General Meeting – REGISTRATION REQUIRED!
DESCRIPTION:You are invited to a Zoom meeting.\nWhen: July 5\, 2023 07:00 – 9:00 PM Pacific Time \nClick here to register \nAfter registering\, you will receive a confirmation email containing information about joining the meeting.
URL:https://www.45thdemocrats.org/event/45th-district-democrats-general-meeting-registration-required-18/
LOCATION:Virtual Zoom Meeting\, WA\, United States
CATEGORIES:Meetings
ORGANIZER;CN="45th District Democrats":MAILTO:communications@45thdemocrats.org
END:VEVENT
BEGIN:VEVENT
DTSTART;TZID=America/Los_Angeles:20230607T190000
DTEND;TZID=America/Los_Angeles:20230607T210000
DTSTAMP:20231105T025911
CREATED:20230302T034629Z
LAST-MODIFIED:20230302T034629Z
UID:8499-1686164400-1686171600@www.45thdemocrats.org
SUMMARY:45th District Democrats General Meeting – REGISTRATION REQUIRED!
DESCRIPTION:You are invited to a Zoom meeting.\nWhen: June 7\, 2023 07:00 – 9:00 PM Pacific Time \nClick here to register \nAfter registering\, you will receive a confirmation email containing information about joining the meeting.
URL:https://www.45thdemocrats.org/event/45th-district-democrats-general-meeting-registration-required-17/
LOCATION:Virtual Zoom Meeting\, WA\, United States
CATEGORIES:Meetings
ORGANIZER;CN="45th District Democrats":MAILTO:communications@45thdemocrats.org
END:VEVENT
BEGIN:VEVENT
DTSTART;TZID=America/Los_Angeles:20230503T190000
DTEND;TZID=America/Los_Angeles:20230503T210000
DTSTAMP:20231105T025911
CREATED:20230302T033939Z
LAST-MODIFIED:20230302T033939Z
UID:8497-1683140400-1683147600@www.45thdemocrats.org
SUMMARY:45th District Democrats General Meeting – REGISTRATION REQUIRED!
DESCRIPTION:You are invited to a Zoom meeting.\nWhen: May 3\, 2023 07:00 – 9:00 PM Pacific Time \nClick here to register \nAfter registering\, you will receive a confirmation email containing information about joining the meeting.
URL:https://www.45thdemocrats.org/event/45th-district-democrats-general-meeting-registration-required-16/
LOCATION:Virtual Zoom Meeting\, WA\, United States
CATEGORIES:Meetings
ORGANIZER;CN="45th District Democrats":MAILTO:communications@45thdemocrats.org
END:VEVENT
BEGIN:VEVENT
DTSTART;VALUE=DATE:20230425
DTEND;VALUE=DATE:20230426
DTSTAMP:20231105T025911
CREATED:20230306T235441Z
LAST-MODIFIED:20230306T235441Z
UID:8550-1682380800-1682467199@www.45thdemocrats.org
SUMMARY:April 2023 Special Election - Election Day!
DESCRIPTION:Ballots must be postmarked by today or returned to a ballot drop box by 8pm.
URL:https://www.45thdemocrats.org/event/april-2023-special-election-election-day/
LOCATION:WA\, United States
END:VEVENT
BEGIN:VEVENT
DTSTART;VALUE=DATE:20230417
DTEND;VALUE=DATE:20230418
DTSTAMP:20231105T025911
CREATED:20230306T235036Z
LAST-MODIFIED:20230306T235036Z
UID:8548-1681689600-1681775999@www.45thdemocrats.org
SUMMARY:April 2023 Special Election - Deadline to register or update your registration online or by mail
DESCRIPTION:
URL:https://www.45thdemocrats.org/event/april-2023-special-election-deadline-to-register-or-update-your-registration-online-or-by-mail/
LOCATION:WA\, United States
END:VEVENT
BEGIN:VEVENT
DTSTART;VALUE=DATE:20230406
DTEND;VALUE=DATE:20230407
DTSTAMP:20231105T025911
CREATED:20230306T234735Z
LAST-MODIFIED:20230306T235112Z
UID:8546-1680739200-1680825599@www.45thdemocrats.org
SUMMARY:April 2023 Special Election - Ballots drop boxes open
DESCRIPTION:
URL:https://www.45thdemocrats.org/event/april-2023-special-election-ballots-drop-boxes-open/
LOCATION:WA\, United States
END:VEVENT
BEGIN:VEVENT
DTSTART;TZID=America/Los_Angeles:20230405T190000
DTEND;TZID=America/Los_Angeles:20230405T210000
DTSTAMP:20231105T025911
CREATED:20230302T033709Z
LAST-MODIFIED:20230302T033709Z
UID:8495-1680721200-1680728400@www.45thdemocrats.org
SUMMARY:45th District Democrats General Meeting – REGISTRATION REQUIRED!
DESCRIPTION:You are invited to a Zoom meeting.\nWhen: April 5\, 2023 07:00 – 9:00 PM Pacific Time \nClick here to register \nAfter registering\, you will receive a confirmation email containing information about joining the meeting.
URL:https://www.45thdemocrats.org/event/45th-district-democrats-general-meeting-registration-required-15/
LOCATION:Virtual Zoom Meeting\, WA\, United States
CATEGORIES:Meetings
ORGANIZER;CN="45th District Democrats":MAILTO:communications@45thdemocrats.org
END:VEVENT
BEGIN:VEVENT
DTSTART;VALUE=DATE:20230405
DTEND;VALUE=DATE:20230406
DTSTAMP:20231105T025911
CREATED:20230306T234504Z
LAST-MODIFIED:20230306T235136Z
UID:8543-1680652800-1680739199@www.45thdemocrats.org
SUMMARY:April 2023 Special Election - Ballots and voters' pamphlets mailed
DESCRIPTION:
URL:https://www.45thdemocrats.org/event/april-2023-special-election-ballots-and-voters-pamphlets-mailed/
LOCATION:WA\, United States
END:VEVENT
BEGIN:VEVENT
DTSTART;TZID=America/Los_Angeles:20230301T190000
DTEND;TZID=America/Los_Angeles:20230301T210000
DTSTAMP:20231105T025911
CREATED:20230302T033341Z
LAST-MODIFIED:20230302T033341Z
UID:8493-1677697200-1677704400@www.45thdemocrats.org
SUMMARY:45th District Democrats General Meeting – REGISTRATION REQUIRED!
DESCRIPTION:You are invited to a Zoom meeting.\nWhen: March 1\, 2023 07:00 – 9:00 PM Pacific Time \nClick here to register \nAfter registering\, you will receive a confirmation email containing information about joining the meeting.
URL:https://www.45thdemocrats.org/event/45th-district-democrats-general-meeting-registration-required-14/
LOCATION:Virtual Zoom Meeting\, WA\, United States
CATEGORIES:Meetings
ORGANIZER;CN="45th District Democrats":MAILTO:communications@45thdemocrats.org
END:VEVENT
BEGIN:VEVENT
DTSTART;TZID=America/Los_Angeles:20221207T190000
DTEND;TZID=America/Los_Angeles:20221207T210000
DTSTAMP:20231105T025911
CREATED:20221201T191638Z
LAST-MODIFIED:20230120T205309Z
UID:8385-1670439600-1670446800@www.45thdemocrats.org
SUMMARY:45th District Democrats General Meeting – REGISTRATION REQUIRED!
DESCRIPTION:Click here to register\nThe first Wednesday of every month\, the 45th District Democrats meet to hear from candidates and elected officials\, make endorsements\, discuss state and local issues\, and conduct Democratic Party business. Deviations from this schedule will be announced here\, on our events calendar. \nUntil further notice\, General Meetings will be held virtually via Zoom. You can find more info about our virtual meetings here.
URL:https://www.45thdemocrats.org/event/45th-district-democrats-general-meeting-registration-required-12/
LOCATION:Virtual Zoom Meeting\, WA\, United States
CATEGORIES:Meetings
ORGANIZER;CN="45th District Democrats":MAILTO:communications@45thdemocrats.org
END:VEVENT
BEGIN:VEVENT
DTSTART;TZID=America/Los_Angeles:20221106T090000
DTEND;TZID=America/Los_Angeles:20221106T200000
DTSTAMP:20231105T025911
CREATED:20221020T210309Z
LAST-MODIFIED:20221020T210309Z
UID:8313-1667725200-1667764800@www.45thdemocrats.org
SUMMARY:Kim Schrier Canvass in North King County
DESCRIPTION:Ballots are out! Join Team Schrier in a final push to get out the vote in WA-08. Doorbelling is the most important way we contact voters\, and we need your help to do it! \nFirst time? No problem! Training and materials will be provided. \nFour shifts beginning at 9am\, noon\, 3pm & 6pm. Meet at a location in Cottage Lake\, Woodinville with the private address provided upon registration. \nClick here to sign up
URL:https://www.45thdemocrats.org/event/kim-schrier-canvass-in-north-king-county-9/
LOCATION:Canvass for Kim Schrier\, WA\, United States
CATEGORIES:Campaign Event
END:VEVENT
BEGIN:VEVENT
DTSTART;TZID=America/Los_Angeles:20221105T090000
DTEND;TZID=America/Los_Angeles:20221105T200000
DTSTAMP:20231105T025911
CREATED:20221020T210203Z
LAST-MODIFIED:20221020T210203Z
UID:8311-1667638800-1667678400@www.45thdemocrats.org
SUMMARY:Kim Schrier Canvass in North King County
DESCRIPTION:Ballots are out! Join Team Schrier in a final push to get out the vote in WA-08. Doorbelling is the most important way we contact voters\, and we need your help to do it! \nFirst time? No problem! Training and materials will be provided. \nFour shifts beginning at 9am\, noon\, 3pm & 6pm. Meet at a location in Cottage Lake\, Woodinville with the private address provided upon registration. \nClick here to sign up
URL:https://www.45thdemocrats.org/event/kim-schrier-canvass-in-north-king-county-8/
LOCATION:Canvass for Kim Schrier\, WA\, United States
CATEGORIES:Campaign Event
END:VEVENT
BEGIN:VEVENT
DTSTART;TZID=America/Los_Angeles:20221102T190000
DTEND;TZID=America/Los_Angeles:20221102T210000
DTSTAMP:20231105T025911
CREATED:20221029T234231Z
LAST-MODIFIED:20221029T234623Z
UID:8347-1667415600-1667422800@www.45thdemocrats.org
SUMMARY:45th District Democrats General Meeting – REGISTRATION REQUIRED!
DESCRIPTION:Click here to register\nThe first Wednesday of every month\, the 45th District Democrats meet to hear from candidates and elected officials\, make endorsements\, discuss state and local issues\, and conduct Democratic Party business. Deviations from this schedule will be announced here\, on our events calendar. \nDue to COVID-19\, General Meetings will be held virtually via Zoom. You can find more info about our virtual meetings here.
URL:https://www.45thdemocrats.org/event/45th-district-democrats-general-meeting-registration-required-11/
LOCATION:WA\, United States
CATEGORIES:Meetings
ORGANIZER;CN="45th District Democrats":MAILTO:communications@45thdemocrats.org
END:VEVENT
BEGIN:VEVENT
DTSTART;TZID=America/Los_Angeles:20221030T090000
DTEND;TZID=America/Los_Angeles:20221030T200000
DTSTAMP:20231105T025911
CREATED:20221020T210052Z
LAST-MODIFIED:20221020T210052Z
UID:8309-1667120400-1667160000@www.45thdemocrats.org
SUMMARY:Kim Schrier Canvass in North King County
DESCRIPTION:Ballots are out! Join Team Schrier in a final push to get out the vote in WA-08. Doorbelling is the most important way we contact voters\, and we need your help to do it! \nFirst time? No problem! Training and materials will be provided. \nFour shifts beginning at 9am\, noon\, 3pm & 6pm. Meet at a location in Cottage Lake\, Woodinville with the private address provided upon registration. \nClick here to sign up
URL:https://www.45thdemocrats.org/event/kim-schrier-canvass-in-north-king-county-7/
LOCATION:Canvass for Kim Schrier\, WA\, United States
CATEGORIES:Campaign Event
END:VEVENT
BEGIN:VEVENT
DTSTART;TZID=America/Los_Angeles:20221029T090000
DTEND;TZID=America/Los_Angeles:20221029T200000
DTSTAMP:20231105T025911
CREATED:20221020T205950Z
LAST-MODIFIED:20221020T205950Z
UID:8306-1667034000-1667073600@www.45thdemocrats.org
SUMMARY:Kim Schrier Canvass in North King County
DESCRIPTION:Ballots are out! Join Team Schrier in a final push to get out the vote in WA-08. Doorbelling is the most important way we contact voters\, and we need your help to do it! \nFirst time? No problem! Training and materials will be provided. \nFour shifts beginning at 9am\, noon\, 3pm & 6pm. Meet at a location in Cottage Lake\, Woodinville with the private address provided upon registration. \nClick here to sign up
URL:https://www.45thdemocrats.org/event/kim-schrier-canvass-in-north-king-county-6/
LOCATION:Canvass for Kim Schrier\, WA\, United States
CATEGORIES:Campaign Event
END:VEVENT
BEGIN:VEVENT
DTSTART;TZID=America/Los_Angeles:20221023T110000
DTEND;TZID=America/Los_Angeles:20221023T160000
DTSTAMP:20231105T025911
CREATED:20221015T192338Z
LAST-MODIFIED:20221015T192622Z
UID:8267-1666522800-1666540800@www.45thdemocrats.org
SUMMARY:Canvassing in Redmond for Leesa Manion
DESCRIPTION:Leesa Manion is the 45th LD Democrats endorsed candidate for King County Prosecuting Attorney (click here to see the full list of endorsements). Join Leesa’s team for canvassing around Redmond Thursday as they call voters in the 45th with the sign-up form here. \nClick here for the full list of volunteering and other opportunities in the coming weeks.
URL:https://www.45thdemocrats.org/event/45th-ld-phonebank/
LOCATION:WA\, United States
CATEGORIES:Campaign Event
END:VEVENT
BEGIN:VEVENT
DTSTART;TZID=America/Los_Angeles:20221023T090000
DTEND;TZID=America/Los_Angeles:20221023T200000
DTSTAMP:20231105T025911
CREATED:20221020T205829Z
LAST-MODIFIED:20221020T205829Z
UID:8304-1666515600-1666555200@www.45thdemocrats.org
SUMMARY:Kim Schrier Canvass in North King County
DESCRIPTION:Ballots are out! Join Team Schrier in a final push to get out the vote in WA-08. Doorbelling is the most important way we contact voters\, and we need your help to do it! \nFirst time? No problem! Training and materials will be provided. \nFour shifts beginning at 9am\, noon\, 3pm & 6pm. Meet at a location in Cottage Lake\, Woodinville with the private address provided upon registration. \nClick here to sign up
URL:https://www.45thdemocrats.org/event/kim-schrier-canvass-in-north-king-county-5/
LOCATION:Canvass for Kim Schrier\, WA\, United States
CATEGORIES:Campaign Event
END:VEVENT
BEGIN:VEVENT
DTSTART;TZID=America/Los_Angeles:20221022T090000
DTEND;TZID=America/Los_Angeles:20221022T200000
DTSTAMP:20231105T025911
CREATED:20221020T205701Z
LAST-MODIFIED:20221020T205701Z
UID:8302-1666429200-1666468800@www.45thdemocrats.org
SUMMARY:Kim Schrier Canvass in North King County
DESCRIPTION:Ballots are out! Join Team Schrier in a final push to get out the vote in WA-08. Doorbelling is the most important way we contact voters\, and we need your help to do it! \nFirst time? No problem! Training and materials will be provided. \nFour shifts beginning at 9am\, noon\, 3pm & 6pm. Meet at a location in Cottage Lake\, Woodinville with the private address provided upon registration. \nClick here to sign up
URL:https://www.45thdemocrats.org/event/kim-schrier-canvass-in-north-king-county-4/
LOCATION:Canvass for Kim Schrier\, WA\, United States
CATEGORIES:Campaign Event
END:VEVENT
BEGIN:VEVENT
DTSTART;TZID=America/Los_Angeles:20221018T173000
DTEND;TZID=America/Los_Angeles:20221018T210000
DTSTAMP:20231105T025911
CREATED:20221015T192756Z
LAST-MODIFIED:20221015T192756Z
UID:8272-1666114200-1666126800@www.45thdemocrats.org
SUMMARY:45th LD Phonebank
DESCRIPTION:Join the Washington State Democrats in canvassing fellow Democrats in your community to increase voter turnout and support for our candidates up and down the ballot. This event is hybrid so you can make calls from home or come into our Kirkland office. Sign up here.
URL:https://www.45thdemocrats.org/event/45th-ld-phonebank-2/
LOCATION:WA\, United States
CATEGORIES:Campaign Event
END:VEVENT
BEGIN:VEVENT
DTSTART;TZID=America/Los_Angeles:20221016T133000
DTEND;TZID=America/Los_Angeles:20221016T170000
DTSTAMP:20231105T025911
CREATED:20221015T192141Z
LAST-MODIFIED:20221015T192141Z
UID:8264-1665927000-1665939600@www.45thdemocrats.org
SUMMARY:GOTV Rally and Canvassing with Patty Murray and Suzan DelBene
DESCRIPTION:Please attend this exciting event to kick off the Washington State Democrats’ GOTV Tour! We’ll be joined by Senator Patty Murray\, WA Democrats Chair Tina Podlodowski\, CD1 Representative Suzan DelBene\, and LD 44 Representative Brandy Donaghy. Everyone is encouraged to join the rally and meet these amazing elected officials before heading out to knock doors in Mill Creek. Sign up here.
URL:https://www.45thdemocrats.org/event/gotv-rally-and-canvassing-with-patty-murray-and-suzan-delbene/
LOCATION:Buffalo Park\, 13401 44th Ave SE\, Mill Creek\, WA\, United States
CATEGORIES:Campaign Event
END:VEVENT
BEGIN:VEVENT
DTSTART;TZID=America/Los_Angeles:20221016T090000
DTEND;TZID=America/Los_Angeles:20221016T200000
DTSTAMP:20231105T025911
CREATED:20221015T191805Z
LAST-MODIFIED:20221015T191805Z
UID:8262-1665910800-1665950400@www.45thdemocrats.org
SUMMARY:Kim Schier Canvass in North King County
DESCRIPTION:There are now 86 precincts in the 45th LD in the 8th Congressional District\, so we can canvass voters close to home and have a national impact to keep our Democratic House majority. First time canvassing? No problem! Training and materials will be provided. \nFour shifts beginning at 9am\, noon\, 3pm & 6pm. Meet at a location in Cottage Lake\, Woodinville with the private address provided upon registration. \nClick here to sign up
URL:https://www.45thdemocrats.org/event/kim-schier-canvass-in-north-king-county/
LOCATION:Canvass for Kim Schrier\, WA\, United States
CATEGORIES:Campaign Event
ORGANIZER;CN="45th District Democrats":MAILTO:communications@45thdemocrats.org
END:VEVENT
BEGIN:VEVENT
DTSTART;TZID=America/Los_Angeles:20221015T090000
DTEND;TZID=America/Los_Angeles:20221015T200000
DTSTAMP:20231105T025911
CREATED:20221015T191647Z
LAST-MODIFIED:20221015T191647Z
UID:8260-1665824400-1665864000@www.45thdemocrats.org
SUMMARY:Kim Schrier Canvass in North King County
DESCRIPTION:There are now 86 precincts in the 45th LD in the 8th Congressional District\, so we can canvass voters close to home and have a national impact to keep our Democratic House majority. First time canvassing? No problem! Training and materials will be provided. \nFour shifts beginning at 9am\, noon\, 3pm & 6pm. Meet at a location in Cottage Lake\, Woodinville with the private address provided upon registration. \nClick here to sign up
URL:https://www.45thdemocrats.org/event/kim-schrier-canvass-in-north-king-county-3/
LOCATION:Canvass for Kim Schrier\, WA\, United States
CATEGORIES:Campaign Event
ORGANIZER;CN="45th District Democrats":MAILTO:communications@45thdemocrats.org
END:VEVENT
BEGIN:VEVENT
DTSTART;TZID=America/Los_Angeles:20221009T120000
DTEND;TZID=America/Los_Angeles:20221009T180000
DTSTAMP:20231105T025911
CREATED:20221005T224405Z
LAST-MODIFIED:20221005T224405Z
UID:8228-1665316800-1665338400@www.45thdemocrats.org
SUMMARY:Kim Schrier Canvass in North King County
DESCRIPTION:Join the effort this weekend to  canvass for Dr. Kim Schrier in North King County from a base in Cottage Lake.  Shifts at 9am and noon on Saturday\, Oct 8 and again at noon and 3pm on Sunday\, October 9. \nFirst time canvassing? No problem – training and materials will be provided.
URL:https://www.45thdemocrats.org/event/kim-schrier-canvass-in-north-king-county-2/
LOCATION:Canvass for Kim Schrier\, WA\, United States
CATEGORIES:Campaign Event
END:VEVENT
BEGIN:VEVENT
DTSTART;TZID=America/Los_Angeles:20221008T110000
DTEND;TZID=America/Los_Angeles:20221008T130000
DTSTAMP:20231105T025911
CREATED:20220916T175738Z
LAST-MODIFIED:20220916T175738Z
UID:8211-1665226800-1665234000@www.45thdemocrats.org
SUMMARY:Suzan DelBene's Welcome to WA-01 Tour: Bellevue
DESCRIPTION:Join Suzan and State Senator Patty Kuderer for a canvass to welcome Bellevue voters to WA-01. Wear comfortable shoes and bring a charged phone.
URL:https://www.45thdemocrats.org/event/suzan-delbenes-welcome-to-wa-01-tour-bellevue/
LOCATION:WA\, United States
CATEGORIES:Campaign Event
END:VEVENT
BEGIN:VEVENT
DTSTART;TZID=America/Los_Angeles:20221008T090000
DTEND;TZID=America/Los_Angeles:20221008T150000
DTSTAMP:20231105T025911
CREATED:20221005T224256Z
LAST-MODIFIED:20221005T224256Z
UID:8225-1665219600-1665241200@www.45thdemocrats.org
SUMMARY:Kim Schrier Canvass in North King County
DESCRIPTION:Join the effort this weekend to  canvass for Dr. Kim Schrier in North King County from a base in Cottage Lake.  Shifts at 9am and noon on Saturday\, Oct 8 and again at noon and 3pm on Sunday\, October 9. \nFirst time canvassing? No problem – training and materials will be provided.
URL:https://www.45thdemocrats.org/event/kim-schrier-canvass-in-north-king-county/
LOCATION:Canvass for Kim Schrier\, WA\, United States
CATEGORIES:Campaign Event
END:VEVENT
BEGIN:VEVENT
DTSTART;TZID=America/Los_Angeles:20221005T190000
DTEND;TZID=America/Los_Angeles:20221005T210000
DTSTAMP:20231105T025911
CREATED:20220928T225819Z
LAST-MODIFIED:20220928T225819Z
UID:8222-1664996400-1665003600@www.45thdemocrats.org
SUMMARY:45th District Democrats General Meeting – REGISTRATION REQUIRED!
DESCRIPTION:Click here to register\nThe first Wednesday of every month\, the 45th District Democrats meet to hear from candidates and elected officials\, make endorsements\, discuss state and local issues\, and conduct Democratic Party business. Deviations from this schedule will be announced here\, on our events calendar. \nDue to COVID-19\, General Meetings will be held virtually via Zoom.  You can find more info about our virtual meetings here.
URL:https://www.45thdemocrats.org/event/45th-district-democrats-general-meeting-registration-required-10/
LOCATION:Virtual Zoom Meeting\, WA\, United States
CATEGORIES:Meetings
ORGANIZER;CN="45th District Democrats":MAILTO:communications@45thdemocrats.org
END:VEVENT
END:VCALENDAR