BEGIN:VCALENDAR
VERSION:2.0
PRODID:-//45th District Democrats - ECPv6.2.2//NONSGML v1.0//EN
CALSCALE:GREGORIAN
METHOD:PUBLISH
X-WR-CALNAME:45th District Democrats
X-ORIGINAL-URL:https://www.45thdemocrats.org
X-WR-CALDESC:Events for 45th District Democrats
REFRESH-INTERVAL;VALUE=DURATION:PT1H
X-Robots-Tag:noindex
X-PUBLISHED-TTL:PT1H
BEGIN:VTIMEZONE
TZID:America/Los_Angeles
BEGIN:DAYLIGHT
TZOFFSETFROM:-0800
TZOFFSETTO:-0700
TZNAME:PDT
DTSTART:20210314T100000
END:DAYLIGHT
BEGIN:STANDARD
TZOFFSETFROM:-0700
TZOFFSETTO:-0800
TZNAME:PST
DTSTART:20211107T090000
END:STANDARD
END:VTIMEZONE
BEGIN:VEVENT
DTSTART;TZID=America/Los_Angeles:20210603T170000
DTEND;TZID=America/Los_Angeles:20210603T180000
DTSTAMP:20231106T234908
CREATED:20210402T190323Z
LAST-MODIFIED:20210529T000323Z
UID:6498-1622739600-1622743200@www.45thdemocrats.org
SUMMARY:Eastside Democrats 35th Annual Fundraiser
DESCRIPTION:Click here now to buy your tickets for June 3 from 5-6pm. For 35 years\, the Eastside Dinner has been the #1 fundraiser for Eastside Democrats. The Dinner will be “served” online due to COVID\, meaning even more opportunity for you to participate from the comfort and safety of your home. \nWinning seats takes great candidates and a huge GOTV effort – and it takes money. Eastside Democrats are going to be putting forward great candidates for every race this year along with the not-to-be-missed Endorsements Guides\, and we need your support. \nFor any questions\, or if you have a sponsorship interest\, please email eastsidedemocratsevents@gmail.com.
URL:https://www.45thdemocrats.org/event/eastside-democrats-35th-annual-fundraiser/
LOCATION:Online\, United States
CATEGORIES:Fundraisers,Meetings
ATTACH;FMTTYPE=image/jpeg:https://www.45thdemocrats.org/wp-content/uploads/2021/04/EastsideDemsFundraiser2.jpg
GEO:37.09024;-95.712891
END:VEVENT
END:VCALENDAR